BEGIN:VCALENDAR
VERSION:2.0
PRODID:-//Tukios.com/
BEGIN:VEVENT
UID:d5e98c1c-211b-4ab4-859c-29b92295371c@www.arnoldfuneralhome.com
DTSTAMP:20260420T195855Z
DTSTART:20260423T180000Z
DTEND:20260423T190000Z
SUMMARY:Memorial Service
DESCRIPTION:
URL:https://www.arnoldfuneralhome.com/obituaries/richard-hannum
LOCATION: 1517 North Market Ave.  Canton OH 44714
GEO:40.8146214;-81.3705677
END:VEVENT
END:VCALENDAR