BEGIN:VCALENDAR
VERSION:2.0
PRODID:-//Tukios.com/
BEGIN:VEVENT
UID:debb7d4c-1b24-4d67-bb1a-85b7f7ea9725@www.arnoldfuneralhome.com
DTSTAMP:20260420T195615Z
DTSTART:20260423T170000Z
DTEND:20260423T180000Z
SUMMARY:Visitation
DESCRIPTION:
URL:https://www.arnoldfuneralhome.com/obituaries/richard-hannum
LOCATION: 1517 North Market Ave.  Canton OH 44714
GEO:40.8146214;-81.3705677
END:VEVENT
END:VCALENDAR