BEGIN:VCALENDAR
VERSION:2.0
PRODID:-//Tukios.com/
BEGIN:VEVENT
UID:0b490727-e721-488c-8a1a-d3e753d9f1a3@www.arnoldfuneralhome.com
DTSTAMP:20260421T224946Z
DTSTART:20260502T170000Z
DTEND:20260502T180000Z
SUMMARY:Memorial Gathering
DESCRIPTION:
URL:https://www.arnoldfuneralhome.com/obituaries/judy-melchior
LOCATION: 1517 Market Ave N  Canton OH 44714
GEO:40.8146214;-81.3705677
END:VEVENT
END:VCALENDAR