BEGIN:VCALENDAR
VERSION:2.0
PRODID:-//Tukios.com/
BEGIN:VEVENT
UID:0e1f1d7f-3813-46f3-abf7-0acb02e93902@www.arnoldfuneralhome.com
DTSTAMP:20260421T172030Z
DTSTART:20260425T140000Z
DTEND:20260425T160000Z
SUMMARY:Visitation
DESCRIPTION:
URL:https://www.arnoldfuneralhome.com/obituaries/john-hartley-jack
LOCATION: 1517 Market Ave N  Canton OH 44714
GEO:40.8146214;-81.3705677
END:VEVENT
END:VCALENDAR