BEGIN:VCALENDAR
VERSION:2.0
PRODID:-//Tukios.com/
BEGIN:VEVENT
UID:18b056ef-7c8e-48fb-95a2-65ad0d1ac742@www.arnoldfuneralhome.com
DTSTAMP:20260420T165029Z
DTSTART:20260426T170000Z
DTEND:20260426T180000Z
SUMMARY:Memorial Service
DESCRIPTION:
URL:https://www.arnoldfuneralhome.com/obituaries/brian-koch
LOCATION: 13370 Cleveland Avenue Northwest  Uniontown OH 44685
GEO:40.9805096;-81.4056964
END:VEVENT
END:VCALENDAR