BEGIN:VCALENDAR
VERSION:2.0
PRODID:-//Tukios.com/
BEGIN:VEVENT
UID:bed6c9d6-1814-4c7f-9d63-19e86e0fdf14@www.arnoldfuneralhome.com
DTSTAMP:20260420T165116Z
DTSTART:20260424T210000Z
DTEND:20260424T230000Z
SUMMARY:Visitation
DESCRIPTION:
URL:https://www.arnoldfuneralhome.com/obituaries/brian-koch
LOCATION:Arnold Funeral Home 504 West Maple Street  Hartville OH 44632
GEO:40.9658034;-81.3383867
END:VEVENT
END:VCALENDAR