BEGIN:VCALENDAR
VERSION:2.0
PRODID:-//Tukios.com/
BEGIN:VEVENT
UID:5819d981-139c-4639-8044-63f779eb38f2@www.arnoldfuneralhome.com
DTSTAMP:20260422T193825Z
DTSTART:20260424T140000Z
DTEND:20260424T150000Z
SUMMARY:Visitation
DESCRIPTION:
URL:https://www.arnoldfuneralhome.com/obituaries/anna-hershberger-2026
LOCATION:Evermore Community Church 1470 Smith Kramer Street Northeast  
	Hartville OH 44632
GEO:40.941104;-81.3515832
END:VEVENT
END:VCALENDAR