BEGIN:VCALENDAR
VERSION:2.0
PRODID:-//Tukios.com/
BEGIN:VEVENT
UID:e67b08e4-89d0-455d-ba0f-2fa150006af4@www.arnoldfuneralhome.com
DTSTAMP:20260422T194051Z
DTSTART:20260424T150000Z
DTEND:20260424T160000Z
SUMMARY:Funeral Service
DESCRIPTION:
URL:https://www.arnoldfuneralhome.com/obituaries/anna-hershberger-2026
LOCATION:Evermore Community Church 1470 Smith Kramer Street Northeast  
	Hartville OH 44632
GEO:40.941104;-81.3515832
END:VEVENT
END:VCALENDAR