BEGIN:VCALENDAR
VERSION:2.0
PRODID:-//Tukios.com/
BEGIN:VEVENT
UID:74e85ea4-d474-48cd-88e7-7ef1a58d9e5a@www.arnoldfuneralhome.com
DTSTAMP:20260422T194029Z
DTSTART:20260423T210000Z
DTEND:20260423T230000Z
SUMMARY:Visitation
DESCRIPTION:
URL:https://www.arnoldfuneralhome.com/obituaries/anna-hershberger-2026
LOCATION:Evermore Community Church 1470 Smith Kramer Street Northeast  
	Hartville OH 44632
GEO:40.941104;-81.3515832
END:VEVENT
END:VCALENDAR