BEGIN:VCALENDAR
VERSION:2.0
PRODID:-//Tukios.com/
BEGIN:VEVENT
UID:8f7a1c55-df58-4598-8beb-51984da7e780@www.arnoldfuneralhome.com
DTSTAMP:20260424T005739Z
DTSTART:20260426T170000Z
DTEND:20260426T180000Z
SUMMARY:Visitation
DESCRIPTION:
URL:https://www.arnoldfuneralhome.com/obituaries/albert-yoder-2026
LOCATION: 10547 Market Ave N.  Uniontown OH 44685
GEO:40.9398415;-81.3613387
END:VEVENT
END:VCALENDAR