BEGIN:VCALENDAR
VERSION:2.0
PRODID:-//Tukios.com/
BEGIN:VEVENT
UID:ba4d1e38-a8d4-487f-90d5-cc5410ec336b@www.arnoldfuneralhome.com
DTSTAMP:20260424T005421Z
DTSTART:20260425T200000Z
DTEND:20260425T230000Z
SUMMARY:Visitation
DESCRIPTION:
URL:https://www.arnoldfuneralhome.com/obituaries/albert-yoder-2026
LOCATION: 10547 Market Ave N.  Uniontown OH 44685
GEO:40.9398415;-81.3613387
END:VEVENT
END:VCALENDAR