BEGIN:VCALENDAR
VERSION:2.0
PRODID:-//Tukios.com/
BEGIN:VEVENT
UID:b4b06ca1-5cf7-4ce0-b494-d9cff2618538@www.arnoldfuneralhome.com
DTSTAMP:20260424T010038Z
DTSTART:20260426T180000Z
DTEND:20260426T190000Z
SUMMARY:Funeral Service
DESCRIPTION:
URL:https://www.arnoldfuneralhome.com/obituaries/albert-yoder-2026
LOCATION: 10547 Market Ave N.  Uniontown OH 44685
GEO:40.9398415;-81.3613387
END:VEVENT
END:VCALENDAR